BEGIN:VCALENDAR
VERSION:2.0
PRODID:-//Alpha Phi Sigma - ECPv6.15.20//NONSGML v1.0//EN
CALSCALE:GREGORIAN
METHOD:PUBLISH
X-ORIGINAL-URL:https://alphaphisigma.org
X-WR-CALDESC:Events for Alpha Phi Sigma
REFRESH-INTERVAL;VALUE=DURATION:PT1H
X-Robots-Tag:noindex
X-PUBLISHED-TTL:PT1H
BEGIN:VTIMEZONE
TZID:America/Halifax
BEGIN:DAYLIGHT
TZOFFSETFROM:-0400
TZOFFSETTO:-0300
TZNAME:ADT
DTSTART:20250309T060000
END:DAYLIGHT
BEGIN:STANDARD
TZOFFSETFROM:-0300
TZOFFSETTO:-0400
TZNAME:AST
DTSTART:20251102T050000
END:STANDARD
BEGIN:DAYLIGHT
TZOFFSETFROM:-0400
TZOFFSETTO:-0300
TZNAME:ADT
DTSTART:20260308T060000
END:DAYLIGHT
BEGIN:STANDARD
TZOFFSETFROM:-0300
TZOFFSETTO:-0400
TZNAME:AST
DTSTART:20261101T050000
END:STANDARD
BEGIN:DAYLIGHT
TZOFFSETFROM:-0400
TZOFFSETTO:-0300
TZNAME:ADT
DTSTART:20270314T060000
END:DAYLIGHT
BEGIN:STANDARD
TZOFFSETFROM:-0300
TZOFFSETTO:-0400
TZNAME:AST
DTSTART:20271107T050000
END:STANDARD
BEGIN:DAYLIGHT
TZOFFSETFROM:-0400
TZOFFSETTO:-0300
TZNAME:ADT
DTSTART:20280312T060000
END:DAYLIGHT
BEGIN:STANDARD
TZOFFSETFROM:-0300
TZOFFSETTO:-0400
TZNAME:AST
DTSTART:20281105T050000
END:STANDARD
END:VTIMEZONE
BEGIN:VEVENT
DTSTART;TZID=America/Halifax:20260304T090000
DTEND;TZID=America/Halifax:20270310T170000
DTSTAMP:20260421T080345
CREATED:20251029T075621Z
LAST-MODIFIED:20251029T075621Z
UID:10000001-1772614800-1804698000@alphaphisigma.org
SUMMARY:Philadelphia Marriott Downtown Hotel
DESCRIPTION:1201 Market Street (guest entrance at 1200 Filbert Street)\nPhiladelphia\, PA 19107 \n(215) 625-2900 \nCheck-in: 4:00 PM \nCheck-out: 11:00 AM \nSmoke-Free Property \nPet Policy: Pets Not Allowed \nGuest Room Reservations \nThe ACJS reservation group rate is $229 per night (single/double/triple occupancy). All applicable local and state taxes will apply. The Philadelphia Marriott Downtown Hotel does have guest rooms with Club Lounge access. This room type will be available through the ACJS group reservations portal; however\, if you wish to upgrade your room type\, additional rates apply and may vary depending on availability. \n  \nThe hotel rate is independent of ACJS registration fees. The hotel cut-off date is Monday\, March 9\, 2026\, or until sold out. \nIt is preferred that you reserve your hotel accommodations through the online reservation system\, which also provides more detailed information about the hotel. If you choose to call the hotel for reservations\, be sure to mention that you are with the ACJS Annual Meeting group. \nHotel reservation link: https://book.passkey.com/go/ACJSAnnualMeeting2026 \nAir/Ground Transportation \nClosest airport to the hotel: Philadelphia (PHL) Airport \nApproximate distance from hotel: 7.2 miles (ca. 12 km) \nThe hotel does not provide shuttle service from the airport \nParking \n\nOn-Site Parking: $31 daily\nValet: $69.50 daily
URL:https://alphaphisigma.org/event/philadelphia-marriott-downtown-hotel/
ATTACH;FMTTYPE=image/webp:https://alphaphisigma.org/wp-content/uploads/2025/10/download-1.webp
END:VEVENT
END:VCALENDAR