BEGIN:VCALENDAR
VERSION:2.0
PRODID:-//Alpha Phi Sigma - ECPv6.15.20//NONSGML v1.0//EN
CALSCALE:GREGORIAN
METHOD:PUBLISH
X-WR-CALNAME:Alpha Phi Sigma
X-ORIGINAL-URL:https://alphaphisigma.org
X-WR-CALDESC:Events for Alpha Phi Sigma
REFRESH-INTERVAL;VALUE=DURATION:PT1H
X-Robots-Tag:noindex
X-PUBLISHED-TTL:PT1H
BEGIN:VTIMEZONE
TZID:America/Halifax
BEGIN:DAYLIGHT
TZOFFSETFROM:-0400
TZOFFSETTO:-0300
TZNAME:ADT
DTSTART:20250309T060000
END:DAYLIGHT
BEGIN:STANDARD
TZOFFSETFROM:-0300
TZOFFSETTO:-0400
TZNAME:AST
DTSTART:20251102T050000
END:STANDARD
BEGIN:DAYLIGHT
TZOFFSETFROM:-0400
TZOFFSETTO:-0300
TZNAME:ADT
DTSTART:20260308T060000
END:DAYLIGHT
BEGIN:STANDARD
TZOFFSETFROM:-0300
TZOFFSETTO:-0400
TZNAME:AST
DTSTART:20261101T050000
END:STANDARD
BEGIN:DAYLIGHT
TZOFFSETFROM:-0400
TZOFFSETTO:-0300
TZNAME:ADT
DTSTART:20270314T060000
END:DAYLIGHT
BEGIN:STANDARD
TZOFFSETFROM:-0300
TZOFFSETTO:-0400
TZNAME:AST
DTSTART:20271107T050000
END:STANDARD
END:VTIMEZONE
BEGIN:VEVENT
DTSTART;TZID=America/Halifax:20260306T093000
DTEND;TZID=America/Halifax:20260306T113000
DTSTAMP:20260421T093128
CREATED:20251204T204555Z
LAST-MODIFIED:20260223T160225Z
UID:10000003-1772789400-1772796600@alphaphisigma.org
SUMMARY:APS Member's Eastern State Penitentiary Tour!
DESCRIPTION:We would like to invite all Alpha Phi Sigma Members and Advisors who will be attending the 2026 APS Conference in Philadelphia\, PA to join us for a tour of the Eastern State Penitentiary. \nIF YOU AND/OR YOUR MEMBERS WOULD LIKE TO ATTEND THE TOUR\, PLEASE EMAIL HEADQUARTERS WITH THE NAMES OF EACH MEMBER WHO WILL BE PARTICIPATING. \nRegistration closed 2/18/2026\nThe tour will be on Friday\, March 6\, 2026. APS members will meet in the lobby of the hotel at 9:30am for a brisk 1.7 mile walk. \nThis is a sponsored\, self-guided audio tour with limited tickets and will be first come\, first served\, so please email Headquarters as soon as possible to secure your spots on the tour. \nChapters registering for the tour MUST be in good standing. Chapter provisionary members and non-members wishing to attend MUST pay the entrance fee directly to Eastern State Penitentiary. \nAdults $13 Students (with I.D.) $10
URL:https://alphaphisigma.org/event/aps-members-eastern-state-penitentiary-tour/
ATTACH;FMTTYPE=image/jpeg:https://alphaphisigma.org/wp-content/uploads/2025/12/Eastern_State_Penitentiary.jpg
END:VEVENT
END:VCALENDAR